BEGIN:VCALENDAR
VERSION:2.0
PRODID:-//DJ Daltro - ECPv6.13.2.1//NONSGML v1.0//EN
CALSCALE:GREGORIAN
METHOD:PUBLISH
X-ORIGINAL-URL:https://www.djdaltro.com.br
X-WR-CALDESC:Eventos para DJ Daltro
REFRESH-INTERVAL;VALUE=DURATION:PT1H
X-Robots-Tag:noindex
X-PUBLISHED-TTL:PT1H
BEGIN:VTIMEZONE
TZID:UTC
BEGIN:STANDARD
TZOFFSETFROM:+0000
TZOFFSETTO:+0000
TZNAME:UTC
DTSTART:20260101T000000
END:STANDARD
END:VTIMEZONE
BEGIN:VEVENT
DTSTART;VALUE=DATE:20260425
DTEND;VALUE=DATE:20260426
DTSTAMP:20260423T173854
CREATED:20251114T135343Z
LAST-MODIFIED:20251114T135343Z
UID:38414-1777075200-1777161599@www.djdaltro.com.br
SUMMARY:Festa de 15 Anos da Larissa - Tuparendi/RS
DESCRIPTION:
URL:https://www.djdaltro.com.br/?tribe_events=festa-de-15-anos-da-larissa-tuparendi-rs
CATEGORIES:15 Anos
END:VEVENT
END:VCALENDAR